BEGIN:VCALENDAR
VERSION:2.0
PRODID:-// - ECPv6.15.20//NONSGML v1.0//EN
CALSCALE:GREGORIAN
METHOD:PUBLISH
X-ORIGINAL-URL:https://toulon-var-deplacements.fr
X-WR-CALDESC:Évènements pour 
REFRESH-INTERVAL;VALUE=DURATION:PT1H
X-Robots-Tag:noindex
X-PUBLISHED-TTL:PT1H
BEGIN:VTIMEZONE
TZID:Europe/Paris
BEGIN:DAYLIGHT
TZOFFSETFROM:+0100
TZOFFSETTO:+0200
TZNAME:CEST
DTSTART:20240331T010000
END:DAYLIGHT
BEGIN:STANDARD
TZOFFSETFROM:+0200
TZOFFSETTO:+0100
TZNAME:CET
DTSTART:20241027T010000
END:STANDARD
BEGIN:DAYLIGHT
TZOFFSETFROM:+0100
TZOFFSETTO:+0200
TZNAME:CEST
DTSTART:20250330T010000
END:DAYLIGHT
BEGIN:STANDARD
TZOFFSETFROM:+0200
TZOFFSETTO:+0100
TZNAME:CET
DTSTART:20251026T010000
END:STANDARD
BEGIN:DAYLIGHT
TZOFFSETFROM:+0100
TZOFFSETTO:+0200
TZNAME:CEST
DTSTART:20260329T010000
END:DAYLIGHT
BEGIN:STANDARD
TZOFFSETFROM:+0200
TZOFFSETTO:+0100
TZNAME:CET
DTSTART:20261025T010000
END:STANDARD
END:VTIMEZONE
BEGIN:VEVENT
DTSTART;TZID=Europe/Paris:20250531T140000
DTEND;TZID=Europe/Paris:20250531T170000
DTSTAMP:20260423T024030
CREATED:20250213T191243Z
LAST-MODIFIED:20250906T180151Z
UID:2618-1748700000-1748710800@toulon-var-deplacements.fr
SUMMARY:Les Minots à Vélo Mai 2025
DESCRIPTION:Le 31 mai\, Toulon Var Déplacements organise la toute première édition de la sortie « Les Minots à vélo »\, qui s’adresse directement aux familles avec de jeunes enfants. Cette balade joyeuse et revendicative s’inspire du mouvement international « Kidical Mass » : une version familiale de la Masse Critique\, que les cyclistes toulonnais connaissent déjà depuis 2007. Si vous ne connaissez pas le concept\, voilà quelques infos: https://kidsonbike.org/ \n\n\n\nEn effet\, de nombreux parents aiment emmener leurs enfants au parc\, à la plage ou dans un endroit calme pour leur apprendre à faire du vélo à l’âge de 4 ou 5 ans. \n\n\n\nMais dès la fin du week-end\, ces mêmes enfants sont conduits partout\, car avouons-le\, nos routes ne sont tout simplement pas sûres pour eux. \n\n\n\nIl n’est pas nécessaire qu’il en soit ainsi. Nous exigeons que les infrastructures cyclables de Toulon répondent à une norme simple : \n\n\n\nLaisseriez-vous votre enfant aller à l’école à vélo en toute autonomie ? \n\n\n\nCette simple question devrait être au cœur de toute décision concernant la planification routière. Des pays comme les Pays-Bas montrent qu’une conception réfléchie permet de rendre les rues suffisamment sûres pour que les enfants puissent y faire du vélo\, leur redonnant ainsi l’autonomie que beaucoup d’entre eux ont perdue par rapport à leurs parents et grands-parents. Et les parents méritent aussi mieux. La plupart de nos infrastructures cyclables actuelles ne sont pas conçues pour le vélo en famille : \n\n\n\n\nUne remorque qui ne rentre pas entre les bornes « de protection » est obligée de retourner sur la route.\n\n\n\nUn vélo cargo ne peut pas utiliser une piste cyclable parce que le trottoir n’a pas été abaissé correctement\, contrairement aux normes de conception modernes.\n\n\n\nDe nombreuses écoles ne sont tout simplement pas accessibles à vélo en toute sécurité\, ce qui oblige les parents à choisir l’option « individuellement plus sûre » mais collectivement dommageable de la voiture\, ce qui fait perdre du temps\, de l’argent et pollue notre air.\n\n\n\n\nPlus que tout\, « Les Minots à Vélo » consiste à être vu\, entendu et à passer un bon moment avec d’autres parents qui pensent également que le vélo à Toulon ne devrait plus être considéré comme le dernier recours en matière de mobilité. \n\n\n\nNous pensons que le vélo doit être pris au sérieux en tant que véritable option de transport\, en particulier pour ceux qui ont peu d’autres choix : nos enfants. \n\n\n\nPour rendre visibles les besoins des enfants et de leurs familles\, nous invitons tout le monde\, et surtout les familles\, à nous rejoindre à Toulon pour la première édition de « Les Minots à Vélo ». \n\n\n\nLe parcours est plat\, court et facile. La balade sera déclarée comme manifestation. Nous ferons tout notre possible pour qu’elle se déroule en toute sécurité\, et nous espérons que la police municipale nous aidera à sécuriser notre petite boucle autour du Mourillon. \n\n\n\nLa balade se terminera par un goûter partagé\, alors apportez des gâteaux\, du Champomy\, et espérons que le beau temps sera au rendez-vous pour un après-midi amusant sur la plage. \n\n\n\nSi vous avez encore un compte\, n’hésitez pas à partager l’évènement facebook. \n\n\n\nPour signaler votre intérêt à participer\, pour aider à l’organisation ou pour toute question ou commentaire\, veuillez nous contacter à l’aide du formulaire suivant : \n\n\n\n\n\n  \n\n\n\n Votre nom\n \n \n Votre e-mail\n \n \n Objet\n \n \n Votre message (facultatif)
URL:https://toulon-var-deplacements.fr/evenement/les-minots-a-velo-01
CATEGORIES:Vélo
ATTACH;FMTTYPE=image/jpeg:https://toulon-var-deplacements.fr/wp-content/uploads/2025/02/banner-scaled.jpg
END:VEVENT
END:VCALENDAR