BEGIN:VCALENDAR
VERSION:2.0
PRODID:-// - ECPv6.15.20//NONSGML v1.0//EN
CALSCALE:GREGORIAN
METHOD:PUBLISH
X-ORIGINAL-URL:https://toulon-var-deplacements.fr
X-WR-CALDESC:Évènements pour 
REFRESH-INTERVAL;VALUE=DURATION:PT1H
X-Robots-Tag:noindex
X-PUBLISHED-TTL:PT1H
BEGIN:VTIMEZONE
TZID:UTC
BEGIN:STANDARD
TZOFFSETFROM:+0000
TZOFFSETTO:+0000
TZNAME:UTC
DTSTART:20170101T000000
END:STANDARD
END:VTIMEZONE
BEGIN:VEVENT
DTSTART;TZID=UTC:20181213T170000
DTEND;TZID=UTC:20181213T190000
DTSTAMP:20260421T142630
CREATED:20181125T110831Z
LAST-MODIFIED:20181125T115335Z
UID:322-1544720400-1544727600@toulon-var-deplacements.fr
SUMMARY:Conseil d'Administration TVD
DESCRIPTION:Ordre du jour: \n– prochains marquage vélo \n– préparation AG \n– bulletin TVD
URL:https://toulon-var-deplacements.fr/evenement/conseil-dadministration-tvd
LOCATION:68 Avenue Victor Agostini\, 83000 Toulon\, 68 Avenue Victor Agostini\,\, Toulon\, 83000
CATEGORIES:Conseil d'Administration
END:VEVENT
END:VCALENDAR